BEGIN:VCALENDAR
VERSION:2.0
PRODID:-// - ECPv6.15.20//NONSGML v1.0//EN
CALSCALE:GREGORIAN
METHOD:PUBLISH
X-ORIGINAL-URL:https://dragontalebooks.store
X-WR-CALDESC:Events for 
REFRESH-INTERVAL;VALUE=DURATION:PT1H
X-Robots-Tag:noindex
X-PUBLISHED-TTL:PT1H
BEGIN:VTIMEZONE
TZID:America/Chicago
BEGIN:DAYLIGHT
TZOFFSETFROM:-0600
TZOFFSETTO:-0500
TZNAME:CDT
DTSTART:20250309T080000
END:DAYLIGHT
BEGIN:STANDARD
TZOFFSETFROM:-0500
TZOFFSETTO:-0600
TZNAME:CST
DTSTART:20251102T070000
END:STANDARD
BEGIN:DAYLIGHT
TZOFFSETFROM:-0600
TZOFFSETTO:-0500
TZNAME:CDT
DTSTART:20260308T080000
END:DAYLIGHT
BEGIN:STANDARD
TZOFFSETFROM:-0500
TZOFFSETTO:-0600
TZNAME:CST
DTSTART:20261101T070000
END:STANDARD
BEGIN:DAYLIGHT
TZOFFSETFROM:-0600
TZOFFSETTO:-0500
TZNAME:CDT
DTSTART:20270314T080000
END:DAYLIGHT
BEGIN:STANDARD
TZOFFSETFROM:-0500
TZOFFSETTO:-0600
TZNAME:CST
DTSTART:20271107T070000
END:STANDARD
END:VTIMEZONE
BEGIN:VEVENT
DTSTART;TZID=America/Chicago:20260423T180000
DTEND;TZID=America/Chicago:20260423T190000
DTSTAMP:20260424T095310
CREATED:20260128T182157Z
LAST-MODIFIED:20260224T202156Z
UID:4672-1776967200-1776970800@dragontalebooks.store
SUMMARY:Environmental Series - Discover How Landmark Conservancy is Working to Protect Habitat
DESCRIPTION:Thursday\, April 23\, 6-7pm. Join Sara Norman\, Landmark Conservancy‘s Community Engagement Manager\, for a presentation on what is a land trust\, the benefits of land protection and ways for people to get involved. \nLandmark Conservancy envisions a future Wisconsin with wild and scenic places conserved and accessible to people for generations to come. \nAs a non-profit land trust\, we seek to deepen the land ethic among those who value the unique resources of northwest Wisconsin\, creating an engaged community that strengthens and sustains the stewardship of natural areas and special places in our care. \nIn person or via Zoom \n 
URL:https://dragontalebooks.store/event/environmental-series-conserving-wisconsins-natural-legacy-for-everyone-forever/
LOCATION:Dragon Tale Books\, 216 Main St. E\, Menomonie\, WI\, 54751
CATEGORIES:Presentation
ORGANIZER;CN="Dragon Tale Books":MAILTO:yourfriends@dragontalebooks.store
END:VEVENT
END:VCALENDAR