BEGIN:VCALENDAR
VERSION:2.0
PRODID:-// - ECPv6.15.20//NONSGML v1.0//EN
CALSCALE:GREGORIAN
METHOD:PUBLISH
X-ORIGINAL-URL:https://dragontalebooks.store
X-WR-CALDESC:Events for 
REFRESH-INTERVAL;VALUE=DURATION:PT1H
X-Robots-Tag:noindex
X-PUBLISHED-TTL:PT1H
BEGIN:VTIMEZONE
TZID:America/Chicago
BEGIN:DAYLIGHT
TZOFFSETFROM:-0600
TZOFFSETTO:-0500
TZNAME:CDT
DTSTART:20250309T080000
END:DAYLIGHT
BEGIN:STANDARD
TZOFFSETFROM:-0500
TZOFFSETTO:-0600
TZNAME:CST
DTSTART:20251102T070000
END:STANDARD
BEGIN:DAYLIGHT
TZOFFSETFROM:-0600
TZOFFSETTO:-0500
TZNAME:CDT
DTSTART:20260308T080000
END:DAYLIGHT
BEGIN:STANDARD
TZOFFSETFROM:-0500
TZOFFSETTO:-0600
TZNAME:CST
DTSTART:20261101T070000
END:STANDARD
BEGIN:DAYLIGHT
TZOFFSETFROM:-0600
TZOFFSETTO:-0500
TZNAME:CDT
DTSTART:20270314T080000
END:DAYLIGHT
BEGIN:STANDARD
TZOFFSETFROM:-0500
TZOFFSETTO:-0600
TZNAME:CST
DTSTART:20271107T070000
END:STANDARD
END:VTIMEZONE
BEGIN:VEVENT
DTSTART;TZID=America/Chicago:20260214T110000
DTEND;TZID=America/Chicago:20260214T130000
DTSTAMP:20260422T062152
CREATED:20260108T183342Z
LAST-MODIFIED:20260108T183342Z
UID:4504-1771066800-1771074000@dragontalebooks.store
SUMMARY:Meet the Author - Jeremiah Bass
DESCRIPTION:Saturday\, February 14\, 11am-1pm. During the Cozy Cocoa Crawl\, drop in to meet author Jeremiah Bass. Books are a good way to make it through the winter. He’ll have books for sale and signing. \nThe Book: \nThe Silver Screen\nReleased November 4th\, 2025 \nWyatt Gaumond’s solitary existence is crumbling\, much like the grandeur of the theater that he owned with his late wife\, June. But it’s not just the personal history that keeps him there; it’s the silver screen that enables him to travel to other forgotten cinemas around the world. On one journey through the screen\, he rescues a young woman\, Emma\, from a violent assault and offers her sanctuary in his own theater. However\, as the connections with the other theaters deteriorate\, so does Wyatt’s grasp on his own reality\, leaving it up to Emma to help him remember\, before he\, too\, is lost in the echoes of memory. \nAbout the Author: \nJeremiah Bass is an emerging author of speculative fiction\, literary fiction\, and personal essays.  A native of southern Illinois\, he has earned advanced degrees in Curriculum & Instruction from Southern Illinois University and Creative Writing & Literature from Southern New Hampshire University. His stories and essays have been published in a wide variety of periodicals\, including The Smart Set Magazine\, BioStories\, Haunted Waters Press\, and Penmen Review. Jeremiah teaches English Composition and Creative Writing at the University of Wisconsin-Stout.   \nHe also writes under the pen name “Jay Bush” and has had several works published under that pseudonym.
URL:https://dragontalebooks.store/event/meet-the-author-jeremiah-bass/
LOCATION:Dragon Tale Books\, 216 Main St. E\, Menomonie\, WI\, 54751
CATEGORIES:Author
ORGANIZER;CN="Dragon Tale Books":MAILTO:yourfriends@dragontalebooks.store
END:VEVENT
END:VCALENDAR