BEGIN:VCALENDAR
VERSION:2.0
PRODID:-// - ECPv6.15.20//NONSGML v1.0//EN
CALSCALE:GREGORIAN
METHOD:PUBLISH
X-ORIGINAL-URL:https://dragontalebooks.store
X-WR-CALDESC:Events for 
REFRESH-INTERVAL;VALUE=DURATION:PT1H
X-Robots-Tag:noindex
X-PUBLISHED-TTL:PT1H
BEGIN:VTIMEZONE
TZID:America/Chicago
BEGIN:DAYLIGHT
TZOFFSETFROM:-0600
TZOFFSETTO:-0500
TZNAME:CDT
DTSTART:20230312T080000
END:DAYLIGHT
BEGIN:STANDARD
TZOFFSETFROM:-0500
TZOFFSETTO:-0600
TZNAME:CST
DTSTART:20231105T070000
END:STANDARD
BEGIN:DAYLIGHT
TZOFFSETFROM:-0600
TZOFFSETTO:-0500
TZNAME:CDT
DTSTART:20240310T080000
END:DAYLIGHT
BEGIN:STANDARD
TZOFFSETFROM:-0500
TZOFFSETTO:-0600
TZNAME:CST
DTSTART:20241103T070000
END:STANDARD
BEGIN:DAYLIGHT
TZOFFSETFROM:-0600
TZOFFSETTO:-0500
TZNAME:CDT
DTSTART:20250309T080000
END:DAYLIGHT
BEGIN:STANDARD
TZOFFSETFROM:-0500
TZOFFSETTO:-0600
TZNAME:CST
DTSTART:20251102T070000
END:STANDARD
END:VTIMEZONE
BEGIN:VEVENT
DTSTART;TZID=America/Chicago:20241205T180000
DTEND;TZID=America/Chicago:20241205T190000
DTSTAMP:20260422T175514
CREATED:20241017T180658Z
LAST-MODIFIED:20241022T131445Z
UID:3239-1733421600-1733425200@dragontalebooks.store
SUMMARY:An Evening of Books and Original Music
DESCRIPTION:December 5\, 6-7pm. \nWe are excited to host authors and musicians Debra Raye King and Thomas Wayne King for a fascinating evening of readings from their newest books\, and for new songs from their unique\, original studio albums of the Northland. \nDebra Raye King is best known for her book “Gravedigger’s Daughter – Growing up Rural.” Thomas Wayne King has published numerous diverse books\, and will read works from his newest Northland anthology of forests and farm “BOOTS BLOOMS BARKS & BAAAS!” \n   \nDebbi and Tom are writing more real-life Wisconsin stories from their years as shepherds\, collaborating on “Love in the Time of Sheep.” Their primitive Sunny Cove Farm in northern Douglas County overlooks beautiful Lake Superior and Duluth-Superior harbors. Daily\, their flock of tenacious Icelandic wool sheep offer many tales of joys and sorrows over 15 years so far\, with more fun and experiences to come. \nTom and Debbi encourage us to “Create all you can\, while you can! Every day is a gift and an adventure!”
URL:https://dragontalebooks.store/event/an-evening-of-books-and-music/
LOCATION:Dragon Tale Books\, 216 Main St. E\, Menomonie\, WI\, 54751
CATEGORIES:Author,Music
ORGANIZER;CN="Dragon Tale Books":MAILTO:yourfriends@dragontalebooks.store
END:VEVENT
BEGIN:VEVENT
DTSTART;TZID=America/Chicago:20240712T160000
DTEND;TZID=America/Chicago:20240712T200000
DTSTAMP:20260422T175514
CREATED:20240707T134613Z
LAST-MODIFIED:20240707T134841Z
UID:3003-1720800000-1720814400@dragontalebooks.store
SUMMARY:Butz & Beans - Music on Main
DESCRIPTION:Friday July 12 from 4-8pm for Music on Main\, we are excited to Host Butz & Beans\, acoustic guitarists. \nIf the weather cooperates\, Mary Butze & Greg Beaner will be performing outside.
URL:https://dragontalebooks.store/event/butz-beans-music-on-main/
LOCATION:Dragon Tale Books\, 216 Main St. E\, Menomonie\, WI\, 54751
CATEGORIES:Music
ORGANIZER;CN="Dragon Tale Books":MAILTO:yourfriends@dragontalebooks.store
END:VEVENT
END:VCALENDAR